BEGIN:VCALENDAR
VERSION:2.0
PRODID:-//OmniMagnetCalendar//EN
BEGIN:VEVENT
DTSTAMP:20190625T195740Z
STATUS:CONFIRMED
UID:singapore.clubs.harvard.edu244
DTSTART:20260421T103000Z
DTEND:20260421T123000Z
LOCATION:Antler, 128 Prinsep Street, #01-01, 188655, Singapore,
SUMMARY:Food as Cultural Heritage: An Evening with Khir Johari
DESCRIPTION:
BEGIN:VALARM
TRIGGER:-PT15M
ACTION:DISPLAY
END:VALARM
TRANSP:OPAQUE
END:VEVENT
END:VCALENDAR
